BEGIN:VCALENDAR
VERSION:2.0
PRODID:-//Shaunti Feldhahn - ECPv6.15.20//NONSGML v1.0//EN
CALSCALE:GREGORIAN
METHOD:PUBLISH
X-ORIGINAL-URL:https://shaunti.com
X-WR-CALDESC:Events for Shaunti Feldhahn
REFRESH-INTERVAL;VALUE=DURATION:PT1H
X-Robots-Tag:noindex
X-PUBLISHED-TTL:PT1H
BEGIN:VTIMEZONE
TZID:America/New_York
BEGIN:DAYLIGHT
TZOFFSETFROM:-0500
TZOFFSETTO:-0400
TZNAME:EDT
DTSTART:20250309T070000
END:DAYLIGHT
BEGIN:STANDARD
TZOFFSETFROM:-0400
TZOFFSETTO:-0500
TZNAME:EST
DTSTART:20251102T060000
END:STANDARD
BEGIN:DAYLIGHT
TZOFFSETFROM:-0500
TZOFFSETTO:-0400
TZNAME:EDT
DTSTART:20260308T070000
END:DAYLIGHT
BEGIN:STANDARD
TZOFFSETFROM:-0400
TZOFFSETTO:-0500
TZNAME:EST
DTSTART:20261101T060000
END:STANDARD
BEGIN:DAYLIGHT
TZOFFSETFROM:-0500
TZOFFSETTO:-0400
TZNAME:EDT
DTSTART:20270314T070000
END:DAYLIGHT
BEGIN:STANDARD
TZOFFSETFROM:-0400
TZOFFSETTO:-0500
TZNAME:EST
DTSTART:20271107T060000
END:STANDARD
END:VTIMEZONE
BEGIN:VEVENT
DTSTART;TZID=America/New_York:20260112T080000
DTEND;TZID=America/New_York:20260112T170000
DTSTAMP:20260420T053343
CREATED:20260105T182415Z
LAST-MODIFIED:20260106T175731Z
UID:25178-1768204800-1768237200@shaunti.com
SUMMARY:Healing leader roundtable (nothing is wasted ministries)
DESCRIPTION:Shaunti will be speaking at the pastor’s conference\, Pain to Purpose Weekend\, on When Hurting People Come to Church.
URL:https://shaunti.com/event/pastors-event-with-davey-blackburn/
END:VEVENT
BEGIN:VEVENT
DTSTART;TZID=America/New_York:20260116T080000
DTEND;TZID=America/New_York:20260116T170000
DTSTAMP:20260420T053343
CREATED:20251117T144907Z
LAST-MODIFIED:20260105T182021Z
UID:25139-1768550400-1768582800@shaunti.com
SUMMARY:PRivate Event
DESCRIPTION:
URL:https://shaunti.com/event/private-event/
END:VEVENT
BEGIN:VEVENT
DTSTART;TZID=America/New_York:20260123T190000
DTEND;TZID=America/New_York:20260124T200000
DTSTAMP:20260420T053343
CREATED:20250123T183902Z
LAST-MODIFIED:20250820T162930Z
UID:24709-1769194800-1769284800@shaunti.com
SUMMARY:Renewal Church\, Sarasota\, FL
DESCRIPTION:Shaunti will be speaking to the women at Renewal Church to help them grow closer to Jesus and empower them to share His love with others by equipping them with practical tools for personal use and outreach. Topics will include The Kindness Challenge and her new research on mental health.
URL:https://shaunti.com/event/renewal-church-sarasota-fl/
END:VEVENT
END:VCALENDAR